BEGIN:VCALENDAR
VERSION:2.0
PRODID:-//Z-PAC Theatre - ECPv6.15.20//NONSGML v1.0//EN
CALSCALE:GREGORIAN
METHOD:PUBLISH
X-ORIGINAL-URL:https://zpactheatre.com.au
X-WR-CALDESC:Events for Z-PAC Theatre
REFRESH-INTERVAL;VALUE=DURATION:PT1H
X-Robots-Tag:noindex
X-PUBLISHED-TTL:PT1H
BEGIN:VTIMEZONE
TZID:Australia/Brisbane
BEGIN:STANDARD
TZOFFSETFROM:+1000
TZOFFSETTO:+1000
TZNAME:AEST
DTSTART:20220101T000000
END:STANDARD
END:VTIMEZONE
BEGIN:VEVENT
DTSTART;TZID=Australia/Brisbane:20230416T140000
DTEND;TZID=Australia/Brisbane:20230416T173000
DTSTAMP:20260423T075131
CREATED:20230215T233931Z
LAST-MODIFIED:20230328T003838Z
UID:10000185-1681653600-1681666200@zpactheatre.com.au
SUMMARY:Cosi
DESCRIPTION:By Louis Nowra\, Directed by Jon Sharpe \nA heart-warming and hilarious Australian comedy set in a psychiatric facility. Cosi is a play about friendship\, romance\, community and difference. It’s 1971 and Australia is protesting the war in Vietnam. But inside the hospital\, the resident patients are listening to Mozart\, learning their lines and occasionally skipping their medication. It’s art\, it’s mayhem\, it’s a wonderful roller coaster all the way to opening night.
URL:https://zpactheatre.com.au/event/cosi-9/
LOCATION:Z-PAC Theatre – Things to do in Hervey Bay\, 15 Zephyr Street\, Scarness\, Queensland\, 4655\, Australia
CATEGORIES:Featured Shows
ATTACH;FMTTYPE=image/jpeg:https://zpactheatre.com.au/wp-content/uploads/2023/03/1679827198448-scaled.jpg
GEO:-25.283421;152.84845
X-APPLE-STRUCTURED-LOCATION;VALUE=URI;X-ADDRESS=Z-PAC Theatre – Things to do in Hervey Bay 15 Zephyr Street Scarness Queensland 4655 Australia;X-APPLE-RADIUS=500;X-TITLE=15 Zephyr Street:geo:152.84845,-25.283421
END:VEVENT
BEGIN:VEVENT
DTSTART;TZID=Australia/Brisbane:20230415T193000
DTEND;TZID=Australia/Brisbane:20230415T220000
DTSTAMP:20260423T075131
CREATED:20230215T233850Z
LAST-MODIFIED:20230328T003827Z
UID:10000186-1681587000-1681596000@zpactheatre.com.au
SUMMARY:Cosi
DESCRIPTION:By Louis Nowra\, Directed by Jon Sharpe \nA heart-warming and hilarious Australian comedy set in a psychiatric facility. Così is a play about friendship\, romance\, community and difference. It’s 1971 and Australia is protesting the war in Vietnam. But inside the hospital\, the resident patients are listening to Mozart\, learning their lines and occasionally skipping their medication. It’s art\, it’s mayhem\, it’s a wonderful roller coaster all the way to opening night.
URL:https://zpactheatre.com.au/event/cosi-8/
LOCATION:Z-PAC Theatre – Things to do in Hervey Bay\, 15 Zephyr Street\, Scarness\, Queensland\, 4655\, Australia
CATEGORIES:Featured Shows
ATTACH;FMTTYPE=image/jpeg:https://zpactheatre.com.au/wp-content/uploads/2023/03/1679827198448-scaled.jpg
GEO:-25.283421;152.84845
X-APPLE-STRUCTURED-LOCATION;VALUE=URI;X-ADDRESS=Z-PAC Theatre – Things to do in Hervey Bay 15 Zephyr Street Scarness Queensland 4655 Australia;X-APPLE-RADIUS=500;X-TITLE=15 Zephyr Street:geo:152.84845,-25.283421
END:VEVENT
BEGIN:VEVENT
DTSTART;TZID=Australia/Brisbane:20230414T193000
DTEND;TZID=Australia/Brisbane:20230414T220000
DTSTAMP:20260423T075131
CREATED:20230215T233812Z
LAST-MODIFIED:20230328T003813Z
UID:10000187-1681500600-1681509600@zpactheatre.com.au
SUMMARY:Cosi
DESCRIPTION:By Louis Nowra\, Directed by Jon Sharpe \nA heart-warming and hilarious Australian comedy set in a psychiatric facility. Così is a play about friendship\, romance\, community and difference. It’s 1971 and Australia is protesting the war in Vietnam. But inside the hospital\, the resident patients are listening to Mozart\, learning their lines and occasionally skipping their medication. It’s art\, it’s mayhem\, it’s a wonderful roller coaster all the way to opening night.
URL:https://zpactheatre.com.au/event/cosi-7/
LOCATION:Z-PAC Theatre – Things to do in Hervey Bay\, 15 Zephyr Street\, Scarness\, Queensland\, 4655\, Australia
CATEGORIES:Featured Shows
ATTACH;FMTTYPE=image/jpeg:https://zpactheatre.com.au/wp-content/uploads/2023/03/1679827198448-scaled.jpg
GEO:-25.283421;152.84845
X-APPLE-STRUCTURED-LOCATION;VALUE=URI;X-ADDRESS=Z-PAC Theatre – Things to do in Hervey Bay 15 Zephyr Street Scarness Queensland 4655 Australia;X-APPLE-RADIUS=500;X-TITLE=15 Zephyr Street:geo:152.84845,-25.283421
END:VEVENT
BEGIN:VEVENT
DTSTART;TZID=Australia/Brisbane:20230409T140000
DTEND;TZID=Australia/Brisbane:20230409T173000
DTSTAMP:20260423T075131
CREATED:20230215T233729Z
LAST-MODIFIED:20230328T003755Z
UID:10000188-1681048800-1681061400@zpactheatre.com.au
SUMMARY:Cosi
DESCRIPTION:By Louis Nowra\, Directed by Jon Sharpe \nA heart-warming and hilarious Australian comedy set in a psychiatric facility. Così is a play about friendship\, romance\, community and difference. It’s 1971 and Australia is protesting the war in Vietnam. But inside the hospital\, the resident patients are listening to Mozart\, learning their lines and occasionally skipping their medication. It’s art\, it’s mayhem\, it’s a wonderful roller coaster all the way to opening night.
URL:https://zpactheatre.com.au/event/cosi-6/
LOCATION:Z-PAC Theatre – Things to do in Hervey Bay\, 15 Zephyr Street\, Scarness\, Queensland\, 4655\, Australia
CATEGORIES:Featured Shows
ATTACH;FMTTYPE=image/jpeg:https://zpactheatre.com.au/wp-content/uploads/2023/03/1679827198448-scaled.jpg
GEO:-25.283421;152.84845
X-APPLE-STRUCTURED-LOCATION;VALUE=URI;X-ADDRESS=Z-PAC Theatre – Things to do in Hervey Bay 15 Zephyr Street Scarness Queensland 4655 Australia;X-APPLE-RADIUS=500;X-TITLE=15 Zephyr Street:geo:152.84845,-25.283421
END:VEVENT
BEGIN:VEVENT
DTSTART;TZID=Australia/Brisbane:20230408T193000
DTEND;TZID=Australia/Brisbane:20230408T220000
DTSTAMP:20260423T075131
CREATED:20230215T233650Z
LAST-MODIFIED:20230328T003743Z
UID:10000189-1680982200-1680991200@zpactheatre.com.au
SUMMARY:Cosi
DESCRIPTION:By Louis Nowra\, Directed by Jon Sharpe \nA heart-warming and hilarious Australian comedy set in a psychiatric facility. Così is a play about friendship\, romance\, community and difference. It’s 1971 and Australia is protesting the war in Vietnam. But inside the hospital\, the resident patients are listening to Mozart\, learning their lines and occasionally skipping their medication. It’s art\, it’s mayhem\, it’s a wonderful roller coaster all the way to opening night.
URL:https://zpactheatre.com.au/event/cosi-5/
LOCATION:Z-PAC Theatre – Things to do in Hervey Bay\, 15 Zephyr Street\, Scarness\, Queensland\, 4655\, Australia
CATEGORIES:Featured Shows
ATTACH;FMTTYPE=image/jpeg:https://zpactheatre.com.au/wp-content/uploads/2023/03/1679827198448-scaled.jpg
GEO:-25.283421;152.84845
X-APPLE-STRUCTURED-LOCATION;VALUE=URI;X-ADDRESS=Z-PAC Theatre – Things to do in Hervey Bay 15 Zephyr Street Scarness Queensland 4655 Australia;X-APPLE-RADIUS=500;X-TITLE=15 Zephyr Street:geo:152.84845,-25.283421
END:VEVENT
BEGIN:VEVENT
DTSTART;TZID=Australia/Brisbane:20230407T193000
DTEND;TZID=Australia/Brisbane:20230407T220000
DTSTAMP:20260423T075131
CREATED:20230215T233512Z
LAST-MODIFIED:20230328T003730Z
UID:10000217-1680895800-1680904800@zpactheatre.com.au
SUMMARY:Cosi
DESCRIPTION:By Louis Nowra\, Directed by Jon Sharpe \nA heart-warming and hilarious Australian comedy set in a psychiatric facility. Così is a play about friendship\, romance\, community and difference. It’s 1971 and Australia is protesting the war in Vietnam. But inside the hospital\, the resident patients are listening to Mozart\, learning their lines and occasionally skipping their medication. It’s art\, it’s mayhem\, it’s a wonderful roller coaster all the way to opening night.
URL:https://zpactheatre.com.au/event/cosi-4/
LOCATION:Z-PAC Theatre – Things to do in Hervey Bay\, 15 Zephyr Street\, Scarness\, Queensland\, 4655\, Australia
CATEGORIES:Featured Shows
ATTACH;FMTTYPE=image/jpeg:https://zpactheatre.com.au/wp-content/uploads/2023/03/1679827198448-scaled.jpg
GEO:-25.283421;152.84845
X-APPLE-STRUCTURED-LOCATION;VALUE=URI;X-ADDRESS=Z-PAC Theatre – Things to do in Hervey Bay 15 Zephyr Street Scarness Queensland 4655 Australia;X-APPLE-RADIUS=500;X-TITLE=15 Zephyr Street:geo:152.84845,-25.283421
END:VEVENT
BEGIN:VEVENT
DTSTART;TZID=Australia/Brisbane:20230402T140000
DTEND;TZID=Australia/Brisbane:20230402T173000
DTSTAMP:20260423T075131
CREATED:20230215T233420Z
LAST-MODIFIED:20230328T003701Z
UID:10000216-1680444000-1680456600@zpactheatre.com.au
SUMMARY:Cosi
DESCRIPTION:By Louis Nowra\, Directed by Jon Sharpe \nA heart-warming and hilarious Australian comedy set in a psychiatric facility. Così is a play about friendship\, romance\, community and difference. It’s 1971 and Australia is protesting the war in Vietnam. But inside the hospital\, the resident patients are listening to Mozart\, learning their lines and occasionally skipping their medication. It’s art\, it’s mayhem\, it’s a wonderful roller coaster all the way to opening night.
URL:https://zpactheatre.com.au/event/cosi-3/
LOCATION:Z-PAC Theatre – Things to do in Hervey Bay\, 15 Zephyr Street\, Scarness\, Queensland\, 4655\, Australia
CATEGORIES:Featured Shows
ATTACH;FMTTYPE=image/jpeg:https://zpactheatre.com.au/wp-content/uploads/2023/03/1679827198448-scaled.jpg
GEO:-25.283421;152.84845
X-APPLE-STRUCTURED-LOCATION;VALUE=URI;X-ADDRESS=Z-PAC Theatre – Things to do in Hervey Bay 15 Zephyr Street Scarness Queensland 4655 Australia;X-APPLE-RADIUS=500;X-TITLE=15 Zephyr Street:geo:152.84845,-25.283421
END:VEVENT
BEGIN:VEVENT
DTSTART;TZID=Australia/Brisbane:20230401T193000
DTEND;TZID=Australia/Brisbane:20230401T220000
DTSTAMP:20260423T075131
CREATED:20230215T232927Z
LAST-MODIFIED:20230328T003658Z
UID:10000215-1680377400-1680386400@zpactheatre.com.au
SUMMARY:Cosi
DESCRIPTION:By Louis Nowra\, Directed by Jon Sharpe \nA heart-warming and hilarious Australian comedy set in a psychiatric facility. Così is a play about friendship\, romance\, community and difference. It’s 1971 and Australia is protesting the war in Vietnam. But inside the hospital\, the resident patients are listening to Mozart\, learning their lines and occasionally skipping their medication. It’s art\, it’s mayhem\, it’s a wonderful roller coaster all the way to opening night.
URL:https://zpactheatre.com.au/event/cosi-2/
LOCATION:Z-PAC Theatre – Things to do in Hervey Bay\, 15 Zephyr Street\, Scarness\, Queensland\, 4655\, Australia
CATEGORIES:Featured Shows
ATTACH;FMTTYPE=image/jpeg:https://zpactheatre.com.au/wp-content/uploads/2023/03/1679827198448-scaled.jpg
GEO:-25.283421;152.84845
X-APPLE-STRUCTURED-LOCATION;VALUE=URI;X-ADDRESS=Z-PAC Theatre – Things to do in Hervey Bay 15 Zephyr Street Scarness Queensland 4655 Australia;X-APPLE-RADIUS=500;X-TITLE=15 Zephyr Street:geo:152.84845,-25.283421
END:VEVENT
BEGIN:VEVENT
DTSTART;TZID=Australia/Brisbane:20230331T193000
DTEND;TZID=Australia/Brisbane:20230331T220000
DTSTAMP:20260423T075131
CREATED:20230215T232719Z
LAST-MODIFIED:20230328T003654Z
UID:10000214-1680291000-1680300000@zpactheatre.com.au
SUMMARY:Cosi
DESCRIPTION:By Louis Nowra\, Directed by Jon Sharpe \nA heart-warming and hilarious Australian comedy set in a psychiatric facility. Così is a play about friendship\, romance\, community and difference. It’s 1971 and Australia is protesting the war in Vietnam. But inside the hospital\, the resident patients are listening to Mozart\, learning their lines and occasionally skipping their medication. It’s art\, it’s mayhem\, it’s a wonderful roller coaster all the way to opening night.
URL:https://zpactheatre.com.au/event/cosi/
LOCATION:Z-PAC Theatre – Things to do in Hervey Bay\, 15 Zephyr Street\, Scarness\, Queensland\, 4655\, Australia
CATEGORIES:Featured Shows
ATTACH;FMTTYPE=image/jpeg:https://zpactheatre.com.au/wp-content/uploads/2023/03/1679827198448-scaled.jpg
GEO:-25.283421;152.84845
X-APPLE-STRUCTURED-LOCATION;VALUE=URI;X-ADDRESS=Z-PAC Theatre – Things to do in Hervey Bay 15 Zephyr Street Scarness Queensland 4655 Australia;X-APPLE-RADIUS=500;X-TITLE=15 Zephyr Street:geo:152.84845,-25.283421
END:VEVENT
BEGIN:VEVENT
DTSTART;TZID=Australia/Brisbane:20230321T190000
DTEND;TZID=Australia/Brisbane:20230321T210000
DTSTAMP:20260423T075131
CREATED:20230216T001622Z
LAST-MODIFIED:20230216T001622Z
UID:10000184-1679425200-1679432400@zpactheatre.com.au
SUMMARY:Z-PAC AGM 2023
DESCRIPTION:t’s that time of year again – our Annual General Meeting (AGM) is upon us and we’d love your support for the next 12 months. The AGM is being held on Tuesday 21st March\, 2023 from 7pm-9pm at Z-PAC Theatre. As is required\, all positions will be vacated\, and nominations are being sought for: President\, Vice President\, Treasurer\, Secretary\, Artistic Director\, Marketing & Promotions Director\, Technical Director If you’re interested in nominating for any of the above positions\, please note that you must submit your completed nomination form by 5pm Tuesday 7th March\, 2023. \nPlease click here for the AGM information and Nomination form. \nPlease click here for a description of each Management Committee role. \nThese documents are available for all to view on our new website Click here for the Forms\, Documents and Downloads page on the zpactheatre.com.au website. We encourage anyone with an active interest in our fabulous theatre to come along and have your say (only financial members can vote though). To become a valued Z-PAC member and receive the benefits of being an annual financially supporting member please click here. If you have any questions\, please reach out to your current committee: \nPRESIDENT- Katie O’Neill\, Ph. 0402 117 479\, president@zpactheatre.com.au \nVICE PRESIDENT – Vacant \, veep@zpactheatre.com.au \nSECRETARY – Helen Jennings\, secretary@zpactheatre.com.au \nTREASURER – Cheryl Palmer\, treasurer@zpactheatre.com.au \nARTISTIC DIRECTOR – Elliot Ashton\, artistic-director@zpactheatre.com.au \nPROMOTIONS AND MARKETING DIRECTOR – Ed Martin\, promotions@zpactheatre.com.au \nTECHNICAL DIRECTOR – Jeff Sweeney\, technical-director@zpactheatre.com.au \nAll the best and we hope to see you there.
URL:https://zpactheatre.com.au/event/z-pac-agm-2023/
LOCATION:Z-PAC Theatre – Things to do in Hervey Bay\, 15 Zephyr Street\, Scarness\, Queensland\, 4655\, Australia
CATEGORIES:Featured Shows
ATTACH;FMTTYPE=image/jpeg:https://zpactheatre.com.au/wp-content/uploads/2022/02/z-pac-theatre-agm-newsletter-Feb-2022.jpg
GEO:-25.283421;152.84845
X-APPLE-STRUCTURED-LOCATION;VALUE=URI;X-ADDRESS=Z-PAC Theatre – Things to do in Hervey Bay 15 Zephyr Street Scarness Queensland 4655 Australia;X-APPLE-RADIUS=500;X-TITLE=15 Zephyr Street:geo:152.84845,-25.283421
END:VEVENT
END:VCALENDAR